BEGIN:VCALENDAR
VERSION:2.0
PRODID:fc2f9530-d9f7-4838-a73e-e9ce52ad33be
CALSCALE:GREGORIAN
METHOD:PUBLISH
X-WR-CALDESC:Storytelling and collaging workshop inspired by A River\, by 
 Marc Martin
X-WR-CALNAME:A River (original title)
BEGIN:VEVENT
SUMMARY:A River (original title)
DTSTART:20250213T160000
DTEND:20250213T170000
DTSTAMP:20260422T155526Z
UID:6f77f837ab2b7b518209942055ddbb4b
CATEGORIES:
URL:https://spore-initiative.org/en/programming/participate/a-river-origin
 al-title
END:VEVENT
END:VCALENDAR
