BEGIN:VCALENDAR
VERSION:2.0
PRODID:17f1eed2-8ceb-447a-8506-f75072f8c69c
CALSCALE:GREGORIAN
METHOD:PUBLISH
X-WR-CALDESC:The first public presentation by the newly formed Association
  of Palestinian and Jewish Academics
X-WR-CALNAME:Spore Hosts: Public Launch of the Association of Palestinian 
 and Jewish Academics
BEGIN:VEVENT
SUMMARY:Spore Hosts: Public Launch of the Association of Palestinian and J
 ewish Academics
DTSTART:20250201T183000
DTEND:20250201T203000
DTSTAMP:20260423T162607Z
UID:b2d826559d1f4d9c8cf569ca29f14c66
CATEGORIES:
URL:https://spore-initiative.org/en/programming/participate/spore-hosts-pu
 blic-launch-of-the-association-of-palestinian-and-jewish-academics
END:VEVENT
END:VCALENDAR
