BEGIN:VCALENDAR
VERSION:2.0
PRODID:ded7d384-5b7a-47ca-89f9-6830d58232ec
CALSCALE:GREGORIAN
METHOD:PUBLISH
X-WR-CALDESC:A critical discussion about German state power\, and its mech
 anisms and functions in times of crisis
X-WR-CALNAME:Spore hosts: Zeit zu Reden: State Power and Police Violence
BEGIN:VEVENT
SUMMARY:Spore hosts: Zeit zu Reden: State Power and Police Violence
DTSTART:20250124T190000
DTEND:20250124T220000
DTSTAMP:20260421T061837Z
UID:65e714bce6f2dd8a09a3958cf60b57f6
CATEGORIES:
URL:https://spore-initiative.org/en/programming/participate/spore-hosts-ze
 it-zu-reden-state-power-and-police-violence
END:VEVENT
END:VCALENDAR
