BEGIN:VCALENDAR
VERSION:2.0
PRODID:22157f4e-4169-46aa-bf94-c452668c5c32
CALSCALE:GREGORIAN
METHOD:PUBLISH
X-WR-CALDESC:Reading and Discussion with Melina Borčak and Abed Hassan
X-WR-CALNAME:Spore hosts: Mecca here\, Mecca there: How we need to talk ab
 out anti-Muslim racism
BEGIN:VEVENT
SUMMARY:Spore hosts: Mecca here\, Mecca there: How we need to talk about a
 nti-Muslim racism
DTSTART:20241212T180000
DTEND:20241212T210000
DTSTAMP:20260422T155450Z
UID:3c4343c5c837ca7f26e87e3b0b690e16
CATEGORIES:
URL:https://spore-initiative.org/en/programming/participate/spore-hosts-me
 cca-here-mecca-there-how-we-need-to-talk-about-anti-muslim-racism
END:VEVENT
END:VCALENDAR
