BEGIN:VCALENDAR
VERSION:2.0
PRODID:712ac0d3-f990-4887-b6be-5527d6b39a28
CALSCALE:GREGORIAN
METHOD:PUBLISH
X-WR-CALDESC:A publication for educators on the use of picture books
X-WR-CALNAME:A Picture Book Journey
BEGIN:VEVENT
SUMMARY:A Picture Book Journey
DTSTART:20241127T170000
DTEND:20241127T190000
DTSTAMP:20260422T140900Z
UID:d475e462bb972f8a8bf357ca3ff3ad0a
CATEGORIES:
URL:https://spore-initiative.org/en/programming/participate/a-picture-book
 -journey
END:VEVENT
END:VCALENDAR
