BEGIN:VCALENDAR
VERSION:2.0
PRODID:fe329132-6894-4d7b-8dbc-3d2cc29544cd
CALSCALE:GREGORIAN
METHOD:PUBLISH
X-WR-CALDESC:Ofrenda for the deceased\, ceremony\, various workshops\, sto
 rytelling\, theatre\, performance\, and live music
X-WR-CALNAME:Spore hosts: Multigenerational Mexican Festival of the Dead f
 or Children and Adults
BEGIN:VEVENT
SUMMARY:Spore hosts: Multigenerational Mexican Festival of the Dead for Ch
 ildren and Adults
DTSTART:20241103T140000
DTEND:20241103T170000
DTSTAMP:20260422T155525Z
UID:8efcdaea73d80d13a3356b826d0771e9
CATEGORIES:
URL:https://spore-initiative.org/en/programming/participate/spore-hosts-mu
 ltigenerational-mexican-festival-of-the-dead-for-children-and-adults
END:VEVENT
END:VCALENDAR
