BEGIN:VCALENDAR
VERSION:2.0
PRODID:b80c11e1-7b86-4944-a5da-a5f69a19f36e
CALSCALE:GREGORIAN
METHOD:PUBLISH
X-WR-CALDESC:Workshop on the Establishment of Intercropping and the Concep
 t of "Territory"
X-WR-CALNAME:Plant Communities and the Defense of the Territory
BEGIN:VEVENT
SUMMARY:Plant Communities and the Defense of the Territory
DTSTART:20230414T160000
DTEND:20230414T190000
DTSTAMP:20260423T055550Z
UID:585a5bde5d424ebc2b9113ecd7570482
CATEGORIES:
URL:https://spore-initiative.org/en/programming/participate/plant-communit
 ies-and-the-defense-of-the-territory
END:VEVENT
END:VCALENDAR
