BEGIN:VCALENDAR
VERSION:2.0
PRODID:0119060a-ad53-40ba-a5d0-1ac7af907109
CALSCALE:GREGORIAN
METHOD:PUBLISH
X-WR-CALDESC:Música\, cuerpo y regeneración.
X-WR-CALNAME:Dialogo y Performance
BEGIN:VEVENT
SUMMARY:Dialogo y Performance
DTSTART:20241012T190000
DTEND:20241012T203000
DTSTAMP:20260423T135643Z
UID:02f426bfb8ea4206cc3c0d3e9d62b91c
CATEGORIES:
URL:https://spore-initiative.org/en/programming/participate/music-body-and
 -regeneration
END:VEVENT
END:VCALENDAR
