BEGIN:VCALENDAR
VERSION:2.0
PRODID:75817c6e-603a-4e09-a273-fa2a6ffea44c
CALSCALE:GREGORIAN
METHOD:PUBLISH
X-WR-CALDESC:Danza y resistencia afrocolombiana
X-WR-CALNAME:Raíces en movimiento
BEGIN:VEVENT
SUMMARY:Raíces en movimiento
DTSTART:20241012T153000
DTEND:20241012T183000
DTSTAMP:20260419T143509Z
UID:c34b0a75c96ebdcee75f0be416b2f181
CATEGORIES:
URL:https://spore-initiative.org/en/programming/participate/maroon-rhythms
END:VEVENT
END:VCALENDAR
