BEGIN:VCALENDAR
VERSION:2.0
PRODID:c9bc8ad4-4a12-41cb-a2d9-cb9d7f6da359
CALSCALE:GREGORIAN
METHOD:PUBLISH
X-WR-CALDESC:Embroidering together to create spaces for exchange and care.
X-WR-CALNAME:Sharing Paths of Resistance: Open Textile Embroidery Workshop
BEGIN:VEVENT
SUMMARY:Sharing Paths of Resistance: Open Textile Embroidery Workshop
DTSTART:20241012T150000
DTEND:20241012T180000
DTSTAMP:20260423T135648Z
UID:4c1825b8e43e9c8479a8276fcdefef1e
CATEGORIES:
URL:https://spore-initiative.org/en/programming/participate/open-textile-e
 mbroidery-workshop-sharing-paths-of-resistance
END:VEVENT
END:VCALENDAR
