BEGIN:VCALENDAR
VERSION:2.0
PRODID:e213d834-83cd-4820-ac50-c74190543737
CALSCALE:GREGORIAN
METHOD:PUBLISH
X-WR-CALDESC:(The dance of care)
X-WR-CALNAME:La Danza del Cuido
BEGIN:VEVENT
SUMMARY:La Danza del Cuido
DTSTART:20241012T120000
DTEND:20241012T150000
DTSTAMP:20260423T135704Z
UID:d6bed3fc3c3f69b0abe10c12c8a4b6aa
CATEGORIES:
URL:https://spore-initiative.org/en/programming/participate/la-danza-del-c
 uido
END:VEVENT
END:VCALENDAR
