BEGIN:VCALENDAR
VERSION:2.0
PRODID:e6c2c9d8-08ac-4a97-8d3c-af8043be0a69
CALSCALE:GREGORIAN
METHOD:PUBLISH
X-WR-CALDESC:A workshop for educators working on river projects
X-WR-CALNAME:Hacemos Nuestro Río
BEGIN:VEVENT
SUMMARY:Hacemos Nuestro Río
DTSTART:20241009T170000
DTEND:20241009T190000
DTSTAMP:20260419T150735Z
UID:61b4e492526672021b05a4716730fb46
CATEGORIES:
URL:https://spore-initiative.org/en/programming/participate/hacemos-nuestr
 o-rio-workshop
END:VEVENT
END:VCALENDAR
