BEGIN:VCALENDAR
VERSION:2.0
PRODID:19cdb91a-e479-4311-a962-ec2e8f9d4358
CALSCALE:GREGORIAN
METHOD:PUBLISH
X-WR-CALDESC:Knowledge sharing  with Dubier and David Jimenez Gironza on c
 offee and cocoa cultivation as well as organic fertilizer production
X-WR-CALNAME:Workshop on Indigenous agriculture and agroecology with !Haga
  que pase!
BEGIN:VEVENT
SUMMARY:Workshop on Indigenous agriculture and agroecology with !Haga que 
 pase!
DTSTART:20241019T130000
DTEND:20241019T150000
DTSTAMP:20260419T172813Z
UID:ca81cb12e36e9f3c2d00b50f5793d45c
CATEGORIES:
URL:https://spore-initiative.org/en/programming/participate/workshop-on-in
 digenous-agriculture-and-agroecology-with-haga-que-pase
END:VEVENT
END:VCALENDAR
