BEGIN:VCALENDAR
VERSION:2.0
PRODID:7b594f0b-3e5b-4576-9871-8cfee2be538c
CALSCALE:GREGORIAN
METHOD:PUBLISH
X-WR-CALDESC:Within the framework of the Cine Colombia Migrante Film Festi
 val presented by Nodo Alemania
X-WR-CALNAME:Spore hosts: Listening Territories Workshop
BEGIN:VEVENT
SUMMARY:Spore hosts: Listening Territories Workshop
DTSTART:20241019T100000
DTEND:20241019T130000
DTSTAMP:20260423T135704Z
UID:9afa90619496c7634f0ff7f7c6d95bbd
CATEGORIES:
URL:https://spore-initiative.org/en/programming/participate/spore-hosts-li
 stening-territories-workshop
END:VEVENT
END:VCALENDAR
