BEGIN:VCALENDAR
VERSION:2.0
PRODID:705d5412-b7ef-4377-be31-5761da05eee7
CALSCALE:GREGORIAN
METHOD:PUBLISH
X-WR-CALDESC:By Café Arakil
X-WR-CALNAME:Spore Hosts: Rebetiko Music Evening
BEGIN:VEVENT
SUMMARY:Spore Hosts: Rebetiko Music Evening
DTSTART:20240929T180000
DTEND:20240929T220000
DTSTAMP:20260419T152427Z
UID:041eebd1718b5c888cb8397ee2f83a05
CATEGORIES:
URL:https://spore-initiative.org/en/programming/participate/spore-hosts-re
 betiko-music-evening
END:VEVENT
END:VCALENDAR
