BEGIN:VCALENDAR
VERSION:2.0
PRODID:cdf62239-fe4f-49f2-b372-ad318a3658dc
CALSCALE:GREGORIAN
METHOD:PUBLISH
X-WR-CALDESC:Presentations and Closing Party
X-WR-CALNAME:Spore hosts: Braiding\, Sewing\, Threading
BEGIN:VEVENT
SUMMARY:Spore hosts: Braiding\, Sewing\, Threading
DTSTART:20240921T130000
DTEND:20240921T200000
DTSTAMP:20260422T225226Z
UID:38b270c5cbc38c39d3ff3c630762f04d
CATEGORIES:
URL:https://spore-initiative.org/en/programming/participate/spore-hosts-br
 aiding-sewing-threading
END:VEVENT
END:VCALENDAR
