BEGIN:VCALENDAR
VERSION:2.0
PRODID:b166c363-6d07-49b7-b9a6-4dda48ebab43
CALSCALE:GREGORIAN
METHOD:PUBLISH
X-WR-CALDESC:Afro hair workshop for Black children and their companions.
X-WR-CALNAME:Spore hosts: Braids and Belonging
BEGIN:VEVENT
SUMMARY:Spore hosts: Braids and Belonging
DTSTART:20240908T130000
DTEND:20240908T170000
DTSTAMP:20260422T225506Z
UID:040839bac7419b440d0dd9ca2992f4c8
CATEGORIES:
URL:https://spore-initiative.org/en/programming/participate/spore-hosts-br
 aids-and-belonging
END:VEVENT
END:VCALENDAR
