BEGIN:VCALENDAR
VERSION:2.0
PRODID:207b5741-3b10-4e31-a818-14c0581e8796
CALSCALE:GREGORIAN
METHOD:PUBLISH
X-WR-CALDESC:multigenerational beading workshop with Stella Sandow.
X-WR-CALNAME:Spore hosts: Beads of Wisdom
BEGIN:VEVENT
SUMMARY:Spore hosts: Beads of Wisdom
DTSTART:20240914T130000
DTEND:20240914T170000
DTSTAMP:20260422T192300Z
UID:fe7255fa2f4012c60d679c19051325d7
CATEGORIES:
URL:https://spore-initiative.org/en/programming/participate/spore-hosts-be
 ads-of-wisdom
END:VEVENT
END:VCALENDAR
