BEGIN:VCALENDAR
VERSION:2.0
PRODID:d6ff15b5-f9bc-4ca1-aad5-5ed1705414eb
CALSCALE:GREGORIAN
METHOD:PUBLISH
X-WR-CALDESC:Panel discussion with Israelis for Peace
X-WR-CALNAME:Spore hosts: How did the extreme right take over Israeli poli
 tics?
BEGIN:VEVENT
SUMMARY:Spore hosts: How did the extreme right take over Israeli politics?
DTSTART:20240911T200000
DTEND:20240911T223000
DTSTAMP:20260422T192300Z
UID:56e747437b9be3e492246fce143f13c5
CATEGORIES:
URL:https://spore-initiative.org/en/programming/participate/spore-hosts-ho
 w-did-the-extreme-right-take-over-israeli-politics
END:VEVENT
END:VCALENDAR
