BEGIN:VCALENDAR
VERSION:2.0
PRODID:72f47e9e-ed6c-40e3-bc00-00f2452f8df0
CALSCALE:GREGORIAN
METHOD:PUBLISH
X-WR-CALDESC:A workshop for kids and womxn* they relate to.
X-WR-CALNAME:How to catch a cloud and take it home?
BEGIN:VEVENT
SUMMARY:How to catch a cloud and take it home?
DTSTART:20240908T140000
DTEND:20240908T170000
DTSTAMP:20260422T120724Z
UID:6e6c2a4c7499d29297b9a5a02d72a132
CATEGORIES:
URL:https://spore-initiative.org/en/programming/participate/how-to-catch-a
 -cloud-and-take-it-home
END:VEVENT
END:VCALENDAR
