BEGIN:VCALENDAR
VERSION:2.0
PRODID:6dec1853-1f93-4ec8-9e5f-df7c23026bc6
CALSCALE:GREGORIAN
METHOD:PUBLISH
X-WR-CALDESC:Family Festival for Gaza and Its Children
X-WR-CALNAME:Children of the Olive Branch
BEGIN:VEVENT
SUMMARY:Children of the Olive Branch
DTSTART:20240901T130000
DTEND:20240901T170000
DTSTAMP:20260422T211147Z
UID:d3b8a0e1b3238218a89bb4987f39e90d
CATEGORIES:
URL:https://spore-initiative.org/en/programming/participate/children-of-th
 e-olive-branch
END:VEVENT
END:VCALENDAR
