BEGIN:VCALENDAR
VERSION:2.0
PRODID:4bc9e32b-5d9e-4483-9d43-c4e20634d018
CALSCALE:GREGORIAN
METHOD:PUBLISH
X-WR-CALDESC:Confluence of affects - community space for LGBTQIA+ people w
 ith refugee and migration experiences
X-WR-CALNAME:Confluência de afetos
BEGIN:VEVENT
SUMMARY:Confluência de afetos
DTSTART:20240926T160000
DTEND:20240926T190000
DTSTAMP:20260419T183016Z
UID:a7f14a8d5e98a23314dc2a29c326ea09
CATEGORIES:
URL:https://spore-initiative.org/en/programming/participate/confluencia-de
 -afetos
END:VEVENT
BEGIN:VEVENT
SUMMARY:Confluência de afetos
DTSTART:20240919T160000
DTEND:20240919T190000
DTSTAMP:20260419T183016Z
UID:55f5d1b9acd7eec1bd1ad6e6ca39d4f8
CATEGORIES:
URL:https://spore-initiative.org/en/programming/participate/confluencia-de
 -afetos
END:VEVENT
BEGIN:VEVENT
SUMMARY:Confluência de afetos
DTSTART:20240912T160000
DTEND:20240912T190000
DTSTAMP:20260419T183016Z
UID:c5e34be7fb937a2efc18a857b1568a9f
CATEGORIES:
URL:https://spore-initiative.org/en/programming/participate/confluencia-de
 -afetos
END:VEVENT
BEGIN:VEVENT
SUMMARY:Confluência de afetos
DTSTART:20240905T160000
DTEND:20240905T190000
DTSTAMP:20260419T183016Z
UID:7162b5d78238cad233cfa24a8443dc8c
CATEGORIES:
URL:https://spore-initiative.org/en/programming/participate/confluencia-de
 -afetos
END:VEVENT
BEGIN:VEVENT
SUMMARY:Confluência de afetos
DTSTART:20240829T160000
DTEND:20240829T190000
DTSTAMP:20260419T183016Z
UID:209ebc86dc4a3a9485fcebd3f6424823
CATEGORIES:
URL:https://spore-initiative.org/en/programming/participate/confluencia-de
 -afetos
END:VEVENT
BEGIN:VEVENT
SUMMARY:Confluência de afetos
DTSTART:20240822T160000
DTEND:20240822T190000
DTSTAMP:20260419T183016Z
UID:d44e9d309dc9b9fae333ed5d44ea71b4
CATEGORIES:
URL:https://spore-initiative.org/en/programming/participate/confluencia-de
 -afetos
END:VEVENT
BEGIN:VEVENT
SUMMARY:Confluência de afetos
DTSTART:20240815T160000
DTEND:20240815T190000
DTSTAMP:20260419T183016Z
UID:3a57c9604ec8018ee86134c760ee51ea
CATEGORIES:
URL:https://spore-initiative.org/en/programming/participate/confluencia-de
 -afetos
END:VEVENT
BEGIN:VEVENT
SUMMARY:Confluência de afetos
DTSTART:20240808T160000
DTEND:20240808T190000
DTSTAMP:20260419T183016Z
UID:3feeb0ec195c4743da46caf3611b7cbc
CATEGORIES:
URL:https://spore-initiative.org/en/programming/participate/confluencia-de
 -afetos
END:VEVENT
BEGIN:VEVENT
SUMMARY:Confluência de afetos
DTSTART:20240801T160000
DTEND:20240801T190000
DTSTAMP:20260419T183016Z
UID:dc7177e4660cd99009b92585bf775624
CATEGORIES:
URL:https://spore-initiative.org/en/programming/participate/confluencia-de
 -afetos
END:VEVENT
END:VCALENDAR
