BEGIN:VCALENDAR
VERSION:2.0
PRODID:a625ec6f-331e-4acf-abc5-989378015116
CALSCALE:GREGORIAN
METHOD:PUBLISH
X-WR-CALDESC:with Spree.Berlin and Confluence of European Water Bodies
X-WR-CALNAME:"Fluent Rights – Conversations on rights of nature"
BEGIN:VEVENT
SUMMARY:"Fluent Rights – Conversations on rights of nature"
DTSTART:20240914T173000
DTEND:20240914T190000
DTSTAMP:20260419T200521Z
UID:730a1bc3de219b55f5406c4688e57612
CATEGORIES:
URL:https://spore-initiative.org/en/programming/participate/fluent-rights-
 conversations-on-rights-of-nature
END:VEVENT
END:VCALENDAR
