BEGIN:VCALENDAR
VERSION:2.0
PRODID:02fe4f8d-e416-40a4-957a-39456fe635d5
CALSCALE:GREGORIAN
METHOD:PUBLISH
X-WR-CALDESC:Workshop on sharing and saving seeds
X-WR-CALNAME:Holding a Seed
BEGIN:VEVENT
SUMMARY:Holding a Seed
DTSTART:20240829T160000
DTEND:20240829T190000
DTSTAMP:20260419T201713Z
UID:209ebc86dc4a3a9485fcebd3f6424823
CATEGORIES:
URL:https://spore-initiative.org/en/programming/participate/holding-a-seed
END:VEVENT
END:VCALENDAR
