BEGIN:VCALENDAR
VERSION:2.0
PRODID:bb7ccd80-2cba-4bac-b7b9-ce1d896b6fa7
CALSCALE:GREGORIAN
METHOD:PUBLISH
X-WR-CALDESC:Workshop and talk with and for teachers with Leila Boukarim a
 nd Asaf Luzon.
X-WR-CALNAME:A Million Kites: Testimonies and Poems from the Children of G
 aza. The toolkit.
BEGIN:VEVENT
SUMMARY:A Million Kites: Testimonies and Poems from the Children of Gaza. 
 The toolkit.
DTSTART:20240828T170000
DTEND:20240828T200000
DTSTAMP:20260422T211138Z
UID:a83011b645362086bb933845f3b72080
CATEGORIES:
URL:https://spore-initiative.org/en/programming/participate/a-million-kite
 s-testimonies-and-poems-from-the-children-of-gaza-the-toolkit
END:VEVENT
END:VCALENDAR
