BEGIN:VCALENDAR
VERSION:2.0
PRODID:68f1cb86-f0f2-44fa-b849-a0c091cbd2fa
CALSCALE:GREGORIAN
METHOD:PUBLISH
X-WR-CALDESC:A conversation with the Jineologie Committee and Jinwar\, Ber
 ivan Omar\, Havin Al Sindi and Ceni e.V. moderated by Şermin Güven
X-WR-CALNAME:Jineology as a stream of knowledge
BEGIN:VEVENT
SUMMARY:Jineology as a stream of knowledge
DTSTART:20240629T180000
DTEND:20240629T193000
DTSTAMP:20260421T223435Z
UID:df82db40400ff9ddc3a150561c478a63
CATEGORIES:
URL:https://spore-initiative.org/en/programming/participate/jineology-as-a
 -stream-of-knowledge
END:VEVENT
END:VCALENDAR
