BEGIN:VCALENDAR
VERSION:2.0
PRODID:f181457c-b2ba-4a73-80b3-c919b2e703e4
CALSCALE:GREGORIAN
METHOD:PUBLISH
X-WR-CALDESC:A workshop with Valiana Aguilar from Colectivo Suumil Móokt'
 aan
X-WR-CALNAME:The kitchen as a political space
BEGIN:VEVENT
SUMMARY:The kitchen as a political space
DTSTART:20240623T160000
DTEND:20240623T190000
DTSTAMP:20260421T093539Z
UID:90b05be010314dd9e02e5d15c490257c
CATEGORIES:
URL:https://spore-initiative.org/en/programming/participate/the-kitchen-as
 -a-political-space
END:VEVENT
END:VCALENDAR
