BEGIN:VCALENDAR
VERSION:2.0
PRODID:6bf71c8f-cee6-4a60-a5ce-ea3323764bde
CALSCALE:GREGORIAN
METHOD:PUBLISH
X-WR-CALDESC:A workshop with Ángel Kú from Colectivo Suumil Móokt'aan
X-WR-CALNAME:The life of the soil
BEGIN:VEVENT
SUMMARY:The life of the soil
DTSTART:20240623T120000
DTEND:20240623T150000
DTSTAMP:20260421T093059Z
UID:61f6f55230a008a45c93e346a2ef6aff
CATEGORIES:
URL:https://spore-initiative.org/en/programming/participate/the-life-of-th
 e-soil
END:VEVENT
END:VCALENDAR
