BEGIN:VCALENDAR
VERSION:2.0
PRODID:521213ca-8a06-4933-8de1-ad1fd54a614c
CALSCALE:GREGORIAN
METHOD:PUBLISH
X-WR-CALDESC:Exhibition opening at Spore Studio: Analogue Photographies Be
 yond Borders
X-WR-CALNAME:Spore hosts: InVisible Borders
BEGIN:VEVENT
SUMMARY:Spore hosts: InVisible Borders
DTSTART:20240602T140000
DTEND:20240602T160000
DTSTAMP:20260423T104134Z
UID:8fb3b9c32f8de3a80631d0a97e1b32a1
CATEGORIES:
URL:https://spore-initiative.org/en/programming/participate/spore-hosts-in
 visible-borders
END:VEVENT
END:VCALENDAR
