BEGIN:VCALENDAR
VERSION:2.0
PRODID:60a22bd6-03cc-49f0-8599-ccc0a690cfb3
CALSCALE:GREGORIAN
METHOD:PUBLISH
X-WR-CALDESC:Panel discussion moderated by the Heinrich Böll Foundation (
 Germany)
X-WR-CALNAME:Spore Hosts: Resisting toxic agriculture in the Southern Cone
BEGIN:VEVENT
SUMMARY:Spore Hosts: Resisting toxic agriculture in the Southern Cone
DTSTART:20240425T173000
DTEND:20240425T193000
DTSTAMP:20260423T123523Z
UID:a04733a21fe6969854d15bf43d180a55
CATEGORIES:
URL:https://spore-initiative.org/en/programming/participate/spore-hosts-re
 sisting-toxic-agriculture-in-the-southern-cone
END:VEVENT
END:VCALENDAR
