BEGIN:VCALENDAR
VERSION:2.0
PRODID:f9c5685d-6dd6-430d-b1e2-b4e85ef4588f
CALSCALE:GREGORIAN
METHOD:PUBLISH
X-WR-CALDESC:A Workshop on video activism facilitated by Özlem Sarıyıld
 ız
X-WR-CALNAME:Environmental Defiance on Screen
BEGIN:VEVENT
SUMMARY:Environmental Defiance on Screen
DTSTART:20240519T110000
DTEND:20240519T150000
DTSTAMP:20260423T141010Z
UID:0601dc37b937adef1f1175a1e5062c03
CATEGORIES:
URL:https://spore-initiative.org/en/programming/participate/environmental-
 defiance-on-screen
END:VEVENT
END:VCALENDAR
