BEGIN:VCALENDAR
VERSION:2.0
PRODID:cc556c61-b206-4068-90d7-560b8ef8ea2d
CALSCALE:GREGORIAN
METHOD:PUBLISH
X-WR-CALDESC:The Mother of O - A performance followed by an artist talk mo
 derated by journalist Julian Weber
X-WR-CALNAME:HJirok - Hani Mojtahedy
BEGIN:VEVENT
SUMMARY:HJirok - Hani Mojtahedy
DTSTART:20240614T190000
DTEND:20240614T210000
DTSTAMP:20260423T104134Z
UID:2b15b26b51717f51f7802540e484fc21
CATEGORIES:
URL:https://spore-initiative.org/en/programming/participate/hjirok-hani-mo
 jtahedy
END:VEVENT
END:VCALENDAR
