BEGIN:VCALENDAR
VERSION:2.0
PRODID:64c82f0a-6e6e-4469-a0e1-0d1b66bbb99c
CALSCALE:GREGORIAN
METHOD:PUBLISH
X-WR-CALDESC:A cultural resistance to extractivist mining in Jujuy\, Argen
 tina
X-WR-CALNAME:Spore Abroad: The Andean forests of Queuñas
BEGIN:VEVENT
SUMMARY:Spore Abroad: The Andean forests of Queuñas
DTSTART:20240312T183000
DTEND:20240312T220000
DTSTAMP:20260423T135648Z
UID:9efc50113277328ab590d252cc673dfc
CATEGORIES:
URL:https://spore-initiative.org/en/programming/participate/the-andean-for
 ests-of-queunas-and-a-culture-that-resists-the-danger-of-mining-extractivi
 sm-in-jujuy-argentina
END:VEVENT
END:VCALENDAR
