BEGIN:VCALENDAR
VERSION:2.0
PRODID:252036db-de31-4723-a79e-06190444c661
CALSCALE:GREGORIAN
METHOD:PUBLISH
X-WR-CALDESC:Based on the Dahme spring\, together with Fanny Nitsche we wo
 rked with two 10th grade classes on texts\, pictures and theatrical presen
 tations on the question: what does water source mean?
X-WR-CALNAME:Text workshop and presentation on the topic: water source
BEGIN:VEVENT
SUMMARY:Text workshop and presentation on the topic: water source
DTSTART:20231120T080000
DTEND:20231124T160000
DTSTAMP:20260423T184410Z
UID:83777ab150f59a8bd96c839a840df832
CATEGORIES:
URL:https://spore-initiative.org/en/programming/participate/text-workshop-
 and-presentation-on-the-topic-water-source
END:VEVENT
END:VCALENDAR
