BEGIN:VCALENDAR
VERSION:2.0
PRODID:2b53cf69-056a-46b7-8e99-fa6b598a1813
CALSCALE:GREGORIAN
METHOD:PUBLISH
X-WR-CALDESC:Workshop with members of the Ancestral House Janeraka-Belé o
 n biocultural practices of regeneration and decolonization
X-WR-CALNAME:Uyra Maraka Kauyrau'upy: songs of the young warrior birds
BEGIN:VEVENT
SUMMARY:Uyra Maraka Kauyrau'upy: songs of the young warrior birds
DTSTART:20240301T160000
DTEND:20240301T180000
DTSTAMP:20260423T140908Z
UID:7ad6a4d860ce1a8cc80c738a04c34e2b
CATEGORIES:
URL:https://spore-initiative.org/en/programming/participate/uyra-maraka-ka
 uyrauupy-songs-of-the-young-warrior-birds
END:VEVENT
END:VCALENDAR
