BEGIN:VCALENDAR
VERSION:2.0
PRODID:34c259a7-0c2f-4116-b256-d02d8c4f057c
CALSCALE:GREGORIAN
METHOD:PUBLISH
X-WR-CALDESC:How the Awaete people are fighting for their (cultural) survi
 val \, for the protection of the Amazon forest\, and the restitution of th
 eir artefacts. Public presentation of the Instituto Janeraka.
X-WR-CALNAME:„Neither Mine\, Nor Yours\, Our House”
BEGIN:VEVENT
SUMMARY:„Neither Mine\, Nor Yours\, Our House”
DTSTART:20240229T190000
DTEND:20240229T210000
DTSTAMP:20260423T135740Z
UID:25be658db606523bb398d50b31864fc6
CATEGORIES:
URL:https://spore-initiative.org/en/programming/participate/neither-mine-n
 or-yours-our-house
END:VEVENT
END:VCALENDAR
