BEGIN:VCALENDAR
VERSION:2.0
PRODID:5ada3b9f-ee5c-4040-a169-e29e22e994e3
CALSCALE:GREGORIAN
METHOD:PUBLISH
X-WR-CALDESC:Ein monatlicher musikalischer Austausch mit Instrumenten aus 
 verschiedenen Kulturen.
X-WR-CALNAME:Stimme der Frauen aus Kurdistan\, Afghanistan\, Iran und Arme
 nien.
BEGIN:VEVENT
SUMMARY:Stimme der Frauen aus Kurdistan\, Afghanistan\, Iran und Armenien.
DTSTART:20240313T180000
DTEND:20240313T200000
DTSTAMP:20260421T221705Z
UID:d9b9c83e7b8d2b94524e1fc84dc42f14
CATEGORIES:
URL:https://spore-initiative.org/de/programm-in-berlin/besuchen-und-mitmac
 hen/stimme-der-frauen-aus-kurdistan-afghanistan-iran-und-armenien
END:VEVENT
END:VCALENDAR
