BEGIN:VCALENDAR
VERSION:2.0
PRODID:e5a6d6a9-5e02-4873-b0fe-f29286e7e74f
CALSCALE:GREGORIAN
METHOD:PUBLISH
X-WR-CALDESC:Ein monatlicher musikalischer Austausch mit Instrumenten aus 
 verschiedenen Kulturen.
X-WR-CALNAME:Töne und Melodien aus dem Universum
BEGIN:VEVENT
SUMMARY:Töne und Melodien aus dem Universum
DTSTART:20240214T180000
DTEND:20240214T200000
DTSTAMP:20260421T190738Z
UID:1ebcb9614c0d875339a6f1a8a61ae7d6
CATEGORIES:
URL:https://spore-initiative.org/de/programm-in-berlin/besuchen-und-mitmac
 hen/tone-und-melodien-aus-dem-universum
END:VEVENT
END:VCALENDAR
