BEGIN:VCALENDAR
VERSION:2.0
PRODID:db5aafa6-33f3-4fa8-8932-d6ec248da3b8
CALSCALE:GREGORIAN
METHOD:PUBLISH
X-WR-CALDESC:Ein monatlicher musikalischer Austausch mit Instrumenten aus 
 verschiedenen Kulturen.
X-WR-CALNAME:Geschichte Maqam und Wirkung auf Gesundheit II
BEGIN:VEVENT
SUMMARY:Geschichte Maqam und Wirkung auf Gesundheit II
DTSTART:20240110T180000
DTEND:20240110T200000
DTSTAMP:20260421T220931Z
UID:c73f98f845af33012a078f6b28c51ef4
CATEGORIES:
URL:https://spore-initiative.org/de/programm-in-berlin/besuchen-und-mitmac
 hen/geschichte-maqam-und-wirkung-auf-gesundheit-ii
END:VEVENT
END:VCALENDAR
