BEGIN:VCALENDAR
VERSION:2.0
PRODID:71d0aa2f-0c31-46b8-99cb-8ad4fb5ad07f
CALSCALE:GREGORIAN
METHOD:PUBLISH
X-WR-CALDESC:Ein monatlicher musikalischer Austausch mit Instrumenten aus 
 verschiedenen Kulturen.
X-WR-CALNAME:Geschichte Maqam und Wirkung auf Gesundheit I
BEGIN:VEVENT
SUMMARY:Geschichte Maqam und Wirkung auf Gesundheit I
DTSTART:20231213T180000
DTEND:20231213T200000
DTSTAMP:20260421T221833Z
UID:0ac9b0584e42f3c93c55e0568e86cc1a
CATEGORIES:
URL:https://spore-initiative.org/de/programm-in-berlin/besuchen-und-mitmac
 hen/geschichte-maqam-und-wirkung-auf-gesundheit-i
END:VEVENT
END:VCALENDAR
