BEGIN:VCALENDAR
VERSION:2.0
PRODID:ad2e2013-5b27-4612-bdb7-e8d89c9d2e1c
CALSCALE:GREGORIAN
METHOD:PUBLISH
X-WR-CALDESC:Ein monatlicher musikalischer Austausch mit Instrumenten aus 
 verschiedenen Kulturen.
X-WR-CALNAME:Tambur: die Geschichte Einfluss des Tamburs auf unsere Seele 
 und Körper
BEGIN:VEVENT
SUMMARY:Tambur: die Geschichte Einfluss des Tamburs auf unsere Seele und K
 örper
DTSTART:20231101T180000
DTEND:20231101T200000
DTSTAMP:20260421T221043Z
UID:834c18148a6c20ca7917737b9c7cbbfe
CATEGORIES:
URL:https://spore-initiative.org/de/programm-in-berlin/besuchen-und-mitmac
 hen/tambur-die-geschichte-einfluss-des-tamburs-auf-unsere-seele-und-korper
END:VEVENT
END:VCALENDAR
