BEGIN:VCALENDAR
VERSION:2.0
PRODID:a99d7cbc-4dfd-40b6-ba04-f75b972a7a1e
CALSCALE:GREGORIAN
METHOD:PUBLISH
X-WR-CALDESC:Ein kreativer Workshop für Kinder zwischen 6 und 10 Jahren
X-WR-CALNAME:Mirror
BEGIN:VEVENT
SUMMARY:Mirror
DTSTART:20260521T163000
DTEND:20260521T183000
DTSTAMP:20260422T155303Z
UID:c5ccb9bb2f71d7aac0d2a6cf1f8e8815
CATEGORIES:
URL:https://spore-initiative.org/de/programm-in-berlin/besuchen-und-mitmac
 hen/mirror
END:VEVENT
END:VCALENDAR
