BEGIN:VCALENDAR
VERSION:2.0
PRODID:6832fd7d-7d54-4b21-9ce1-9298e959238f
CALSCALE:GREGORIAN
METHOD:PUBLISH
X-WR-CALDESC:Workshop
X-WR-CALNAME:The Roots of Everything: Imagination als Widerstand – Über
  Täume\, die transformieren
BEGIN:VEVENT
SUMMARY:The Roots of Everything: Imagination als Widerstand – Über Täu
 me\, die transformieren
DTSTART:20260506T170000
DTEND:20260506T210000
DTSTAMP:20260423T164611Z
UID:bb2488b8c9e37c890d4d5fe542bd2e2f
CATEGORIES:
URL:https://spore-initiative.org/de/programm-in-berlin/besuchen-und-mitmac
 hen/die-wurzeln-von-allem-vorstellung-als-widerstand-uber-taume-die-verand
 ern
END:VEVENT
END:VCALENDAR
