BEGIN:VCALENDAR
VERSION:2.0
PRODID:43541c24-a356-4296-ae48-2263d6d28577
CALSCALE:GREGORIAN
METHOD:PUBLISH
X-WR-CALDESC:Lecture-Performance
X-WR-CALNAME:The Roots of Everything: Die Kraft der Imagination – Der Ne
 belregenwald als reale Utopie
BEGIN:VEVENT
SUMMARY:The Roots of Everything: Die Kraft der Imagination – Der Nebelre
 genwald als reale Utopie
DTSTART:20260505T183000
DTEND:20260505T203000
DTSTAMP:20260423T170508Z
UID:b683f64fa7c9f5d7bb0ca08199f75629
CATEGORIES:
URL:https://spore-initiative.org/de/programm-in-berlin/besuchen-und-mitmac
 hen/die-kraft-der-vorstellung-der-nebelregenwald-als-reale-utopie
END:VEVENT
END:VCALENDAR
