BEGIN:VCALENDAR
VERSION:2.0
PRODID:38cdcff1-2bf8-4ef6-91f6-b8dd17d6fa04
CALSCALE:GREGORIAN
METHOD:PUBLISH
X-WR-CALDESC:Eine kritische Diskussion über historische Präzedenz\, die 
 Folgen von Straffreiheit und Lehren aus der Geschichte
X-WR-CALNAME:Zeit zu reden – International: Der Genozid an den Armenier*
 innen und seine Bedeutung
BEGIN:VEVENT
SUMMARY:Zeit zu reden – International: Der Genozid an den Armenier*innen
  und seine Bedeutung
DTSTART:20260423T190000
DTEND:20260423T220000
DTSTAMP:20260422T155303Z
UID:cd3fb7b8dbee9a5d6222f3f3cedeb92c
CATEGORIES:
URL:https://spore-initiative.org/de/programm-in-berlin/besuchen-und-mitmac
 hen/zeit-zu-reden-international-der-genozid-an-den-armenierinnen-und-seine
 -bedeutung
END:VEVENT
END:VCALENDAR
