BEGIN:VCALENDAR
VERSION:2.0
PRODID:267cd145-a378-42cc-be2c-88560ec461ea
CALSCALE:GREGORIAN
METHOD:PUBLISH
X-WR-CALDESC:Lesungen und Podiumsdiskussion
X-WR-CALNAME:„SYRIA: Fall of Eternity\,“ Vorstellung der Frühjahrsaus
 gabe 2026 von ArabLit Quarterly
BEGIN:VEVENT
SUMMARY:„SYRIA: Fall of Eternity\,“ Vorstellung der Frühjahrsausgabe 
 2026 von ArabLit Quarterly
DTSTART:20260503T180000
DTEND:20260503T193000
DTSTAMP:20260421T071519Z
UID:a834ac6ad7d070830521384115f41119
CATEGORIES:
URL:https://spore-initiative.org/de/programm-in-berlin/besuchen-und-mitmac
 hen/syria-fall-of-eternity-vorstellung-der-fruhjahrsausgabe-2026-von-arabl
 it-quarterly
END:VEVENT
END:VCALENDAR
