BEGIN:VCALENDAR
VERSION:2.0
PRODID:03d1a787-7424-4ce5-8bf0-521eb8d195cc
CALSCALE:GREGORIAN
METHOD:PUBLISH
X-WR-CALDESC:Workshop
X-WR-CALNAME:Edaphonistas – Boden hören\, Boden erzählen
BEGIN:VEVENT
SUMMARY:Edaphonistas – Boden hören\, Boden erzählen
DTSTART:20260425T140000
DTEND:20260425T190000
DTSTAMP:20260425T124330Z
UID:405ec6cd8a13cd6636d2ab7bbb65130c
CATEGORIES:
URL:https://spore-initiative.org/de/programm-in-berlin/besuchen-und-mitmac
 hen/edaphonistas-boden-horen-boden-erzahlen
END:VEVENT
END:VCALENDAR
