BEGIN:VCALENDAR
VERSION:2.0
PRODID:5c251f14-a8a8-4fb4-b179-b6a5560e8942
CALSCALE:GREGORIAN
METHOD:PUBLISH
X-WR-CALDESC:Über Verwandtschaft\, entwurzelte Geschichten sowie gemeinsa
 mes Sammeln und Kochen – Ein Workshop
X-WR-CALNAME:FORBIDDEN LANDSCAPES
BEGIN:VEVENT
SUMMARY:FORBIDDEN LANDSCAPES
DTSTART:20260424T110000
DTEND:20260424T150000
DTSTAMP:20260423T175858Z
UID:2e42dce2686fda2a9cf906ab4621fa83
CATEGORIES:
URL:https://spore-initiative.org/de/programm-in-berlin/besuchen-und-mitmac
 hen/forbidden-landscapes-april
END:VEVENT
END:VCALENDAR
