BEGIN:VCALENDAR
VERSION:2.0
PRODID:bef18913-e75d-49f0-87cb-a5e115b70cae
CALSCALE:GREGORIAN
METHOD:PUBLISH
X-WR-CALDESC:Filmvorführung mit anschließendem Gespräch
X-WR-CALNAME:ANTI-COLONIAL FILM NIGHT mit _Subkontinent: Kus Kari Gongul
BEGIN:VEVENT
SUMMARY:ANTI-COLONIAL FILM NIGHT mit _Subkontinent: Kus Kari Gongul
DTSTART:20260410T183000
DTEND:20260410T210000
DTSTAMP:20260421T090259Z
UID:43d6f0775160eb1026010a4af61e0695
CATEGORIES:
URL:https://spore-initiative.org/de/programm-in-berlin/besuchen-und-mitmac
 hen/anti-colonial-film-night-mit-_subkontinent-kus-kari-gongul
END:VEVENT
END:VCALENDAR
