BEGIN:VCALENDAR
VERSION:2.0
PRODID:5c69f10e-5b64-4147-95b8-b5998f1a63d4
CALSCALE:GREGORIAN
METHOD:PUBLISH
X-WR-CALDESC:Ein zweitägiges Symposium über Feuerökologien und Klang
X-WR-CALNAME:Burning Silence
BEGIN:VEVENT
SUMMARY:Burning Silence
DTSTART:20260412T130000
DTEND:20260412T210000
DTSTAMP:20260423T122651Z
UID:bb29da9149464c39d5e06300516dafe5
CATEGORIES:
URL:https://spore-initiative.org/de/programm-in-berlin/besuchen-und-mitmac
 hen/burning-silence-tag-ii
END:VEVENT
END:VCALENDAR
